									
BEGIN:VCALENDAR
VERSION:2.0
PRODID:-//Cines Lys Valencia - ECPv6.15.14//NONSGML v1.0//EN
CALSCALE:GREGORIAN
METHOD:PUBLISH
X-WR-CALNAME:Cines Lys Valencia
X-ORIGINAL-URL:https://cineslys.com
X-WR-CALDESC:Eventos para Cines Lys Valencia
REFRESH-INTERVAL;VALUE=DURATION:PT1H
X-Robots-Tag:noindex
X-PUBLISHED-TTL:PT1H
BEGIN:VTIMEZONE
TZID:UTC
BEGIN:STANDARD
TZOFFSETFROM:+0000
TZOFFSETTO:+0000
TZNAME:UTC
DTSTART:20240101T000000
END:STANDARD
END:VTIMEZONE
BEGIN:VEVENT
DTSTART;VALUE=DATE:20250302
DTEND;VALUE=DATE:20250303
DTSTAMP:20260424T115459
CREATED:20250114T085325Z
LAST-MODIFIED:20250114T091249Z
UID:7306-1740873600-1740959999@cineslys.com
SUMMARY:Versión Digital: El Lago de los Cisnes (Reposición)
DESCRIPTION:El Lago de los Cisnes\nDomingo\, 2 de marzo de 2025 16:00h\nDesde Royal Ballet & Opera\, Reposición Ballet directo \nLa historia de amor\, traición y perdón más intensa del ballet clásico. Combinando la sensacional música de Chaikovski con la imaginación deslumbrante del coreógrafo Liam Scarlett y el diseñador John Macfarlane\, El lago de los cisnes en la gran pantalla ofrece una ocasión excepcional de disfrutar de este gran clásico del ballet. \nDomingo\, 2 de marzo de 2025 a las 16:00h \n Comprar entradas
URL:https://cineslys.com/calendario/version-digital-el-lago-de-los-cisnes-3/
LOCATION:Cines Lys Valencia
CATEGORIES:Conciertos en Cine,Eventos
ATTACH;FMTTYPE=image/jpeg:https://cineslys.com/wp-content/uploads/2025/01/gff.jpg
END:VEVENT
BEGIN:VEVENT
DTSTART;VALUE=DATE:20250303
DTEND;VALUE=DATE:20250304
DTSTAMP:20260424T115459
CREATED:20250218T090804Z
LAST-MODIFIED:20250225T160645Z
UID:7796-1740960000-1741046399@cineslys.com
SUMMARY:Cine Club Lys: Miocardio
DESCRIPTION:Cine Club Lys: Miocardio\nLunes 3 de marzo 16:30h – 18:00h – 19:30h\nMatrícula abierta Cine Club Lys 2024-2025. Precio socio 5\,50. No socio a 20€\nEste próximo Lunes 3 de marzo contaremos con la presencia del director José Manuel Carrasco\, que presentará y dará un posterior coloquio de su última película Miocardio. \nSinopsis: Pablo está en crisis. Una mañana en la que toca fondo\, su teléfono suena misteriosamente. Es Ana\, la chica que le rompió el corazón hace más de quince años. A lo largo de una jornada\, Pablo podrá resolver cuentas pendientes y terminar de escribir un capítulo de su vida… O puede que no…\n Reserva tu entrada
URL:https://cineslys.com/calendario/cine-club-lys-miocardio/
LOCATION:Cines Lys Valencia
CATEGORIES:Cine club,Visita de Directores
ATTACH;FMTTYPE=image/jpeg:https://cineslys.com/wp-content/uploads/2025/02/MIOCARDIO.jpg
END:VEVENT
BEGIN:VEVENT
DTSTART;VALUE=DATE:20250304
DTEND;VALUE=DATE:20250305
DTSTAMP:20260424T115459
CREATED:20250226T080330Z
LAST-MODIFIED:20250226T080704Z
UID:7870-1741046400-1741132799@cineslys.com
SUMMARY:Cita a Ciegas: 4 de marzo
DESCRIPTION:Cita a Ciegas: 4 de marzo\nÚnete a nuestra Newsletter de Cita a Ciegas y participa en las porras semanales\nEl martes pasado\, nuestros espectadores tuvieron la ocasión de ver «Tres anuncios en las afueras» (2017)\, película dirigida por Martin McDonagh y protagonizada por Frances McDormand\, Woody Harrelson\, Sam Rockwell\, entre otros. \n¿Qué película será la del martes que viene? Te queda esperar! \nHazte socio de Cines Lys gratuitamente y acumula puntos comprando a 5€ \n Reserva tu entrada
URL:https://cineslys.com/calendario/cita-a-ciegas-4-de-marzo/
CATEGORIES:Cita a ciegas
ATTACH;FMTTYPE=image/jpeg:https://cineslys.com/wp-content/uploads/2025/02/CITAACIEGAS-INSTAGRAM.jpg
END:VEVENT
BEGIN:VEVENT
DTSTART;VALUE=DATE:20250306
DTEND;VALUE=DATE:20250307
DTSTAMP:20260424T115459
CREATED:20250217T084602Z
LAST-MODIFIED:20250217T132312Z
UID:7776-1741219200-1741305599@cineslys.com
SUMMARY:Proyecto Viridiana: "Tardes de soledad" con Albert Serra y J.A. Bayona
DESCRIPTION:Proyecto Viridiana: «Tardes de soledad» con Albert Serra\nJueves\, 6 de marzo 20:15h\nVuelve Proyecto Viridiana con Tardes de Soledad\, con un coloquio online del director Albert Serra y moderado por J.A. Bayona. \nLos espectadores podrán mandar sus preguntas desde un QR que se proyectará antes de comenzar la película\, así como durante el coloquio. \nSinopsis: Retrato de una estrella del toreo en activo\, Andrés Roca Rey\, que permite reflexionar sobre la experiencia íntima del torero que asume el riesgo de enfrentarse al toro como un deber personal por respeto a la tradición y como un desafío estético. Este desafío crea una forma de belleza efímera a través de la confrontación material y violenta entre la racionalidad humana y la brutalidad del animal salvaje. \n Reserva tu entrada
URL:https://cineslys.com/calendario/proyecto-viridiana-tardes-de-soledad-con-albert-serra/
LOCATION:Cines Lys Valencia
CATEGORIES:Proyecto Viridiana
ATTACH;FMTTYPE=image/jpeg:https://cineslys.com/wp-content/uploads/2025/02/PROYECTO-VIRIDIANA-INSTAGRAM.jpg
END:VEVENT
BEGIN:VEVENT
DTSTART;TZID=UTC:20250306T193000
DTEND;TZID=UTC:20250306T220000
DTSTAMP:20260424T115459
CREATED:20250122T170929Z
LAST-MODIFIED:20250213T114735Z
UID:7424-1741289400-1741298400@cineslys.com
SUMMARY:Homenaje David Lynch: El hombre elefante
DESCRIPTION:Homenaje David Lynch: El Hombre Elefante\nJueves 06 de marzo a las 19:30h (VOSE)\nCon presentación y corto de David Lynch \nSin duda\, el trabajo mejor valorado de David Lynch. Un proyecto de 10 que nota el poder actoral de dos grandes actores como John Hurt y Anthony Hopkins. Basada en la vida de Joseph Merrick. \nComo es habitual contamos con dos visionados. El primero\, Lumière (1995) que cuenta con una primera presentación del director David Lynch. \nSinopsis: Cuarenta directores internacionales aceptaron la idea de hacer un cortometraje utilizando el cinematógrafo original inventado por los hermanos Lumière y trabajando en condiciones similares a las de 1895. Además\, debían cumplir tres condiciones: la película no debía superar los 52 segundos\, no podía tener más de tres tomas\, y la sincronización del sonido no estaba permitida. \nEl segundo\, la película El Hombre Elefante. \nSinopsis: A finales del siglo XIX\, el doctor Frederick Treves descubre en un circo a un hombre llamado John Merrick. Se trata de un ciudadano británico con la cabeza monstruosamente deformada\, que vive en una situación de constante humillación y sufrimiento al ser exhibido diariamente como una atracción de feria. \n Reservar entradas
URL:https://cineslys.com/calendario/homenaje-david-lynch-el-hombre-elefante/
LOCATION:Cines Lys Valencia
CATEGORIES:Homenaje David Lynch
ATTACH;FMTTYPE=image/jpeg:https://cineslys.com/wp-content/uploads/2025/01/davidlycn.jpg
END:VEVENT
BEGIN:VEVENT
DTSTART;VALUE=DATE:20250310
DTEND;VALUE=DATE:20250311
DTSTAMP:20260424T115459
CREATED:20250225T082524Z
LAST-MODIFIED:20250225T082652Z
UID:7856-1741564800-1741651199@cineslys.com
SUMMARY:Cine Club Lys: Aún estoy aquí
DESCRIPTION:Cine Club Lys: Aún estoy aquí\nLunes 10 de marzo 16:30h – 18:00h – 19:30h\nMatrícula abierta Cine Club Lys 2024-2025. Precio socio 5\,50. No socio a 20€\nAún estoy aquí con Coloquio moderado. \nSinopsis: Basada en las memorias de Marcelo Rubens Paiva\, en las que narra\ncómo su madre se vio obligada al activismo político cuando su marido\, el diputado izquierdista Rubens Paiva\, fue capturado por el gobierno durante la dictadura militar de Brasil\, en 1971. \n Reserva tu entrada
URL:https://cineslys.com/calendario/cine-club-lys-aun-estoy-aqui/
LOCATION:Cines Lys Valencia
CATEGORIES:Cine club
ATTACH;FMTTYPE=image/jpeg:https://cineslys.com/wp-content/uploads/2025/02/cuadrado-aun-estoy-aqi.jpg
END:VEVENT
BEGIN:VEVENT
DTSTART;VALUE=DATE:20250311
DTEND;VALUE=DATE:20250312
DTSTAMP:20260424T115459
CREATED:20250305T082856Z
LAST-MODIFIED:20250305T082857Z
UID:7930-1741651200-1741737599@cineslys.com
SUMMARY:Cita a Ciegas: 11 de marzo
DESCRIPTION:Cita a Ciegas: 11 de marzo\nÚnete a nuestra Newsletter de Cita a Ciegas y participa en las porras semanales\nEl martes pasado\, nuestros espectadores tuvieron la oportunidad de decidir entre una película desconocida y Anora\, donde optaron por esta última. La gran triunfadora de cinco Oscars a Mejor película\, Mejor dirección (Sean Baker)\, Mejor actriz protagonista (Mikey Madison)\, Mejor guion original (Sean Baker) y Mejor montaje (Sean Baker). \nYa disponible en Cines Lys \n¿Qué película será la del martes que viene? Te queda esperar! \nHazte socio de Cines Lys gratuitamente y acumula puntos comprando a 5€ \n Reserva tu entrada
URL:https://cineslys.com/calendario/cita-a-ciegas-11-de-marzo/
LOCATION:Cines Lys Valencia
CATEGORIES:Cita a ciegas
ATTACH;FMTTYPE=image/jpeg:https://cineslys.com/wp-content/uploads/2025/03/CITA-A-CIEGAS-INSTAGRAM-NUEVO-FORMATO.jpg
END:VEVENT
BEGIN:VEVENT
DTSTART;TZID=UTC:20250313T203000
DTEND;TZID=UTC:20250313T223000
DTSTAMP:20260424T115459
CREATED:20250213T145737Z
LAST-MODIFIED:20250216T123304Z
UID:7749-1741897800-1741905000@cineslys.com
SUMMARY:Terroríficamente Lys: Especial Aniversario David Cronenberg - The Fly (VOSE)
DESCRIPTION:Terroríficamente Lys: The Fly de 1986 (VOSE)\nJueves\, 13 de marzo 20:30h\nÚnete a nuestra Newsletter de Terror donde podrás votar los cortos\, elegir películas\, y ganar entradas\nNo queremos esperar para honrar a los grandes directores del cine\, y es por ello que hemos decidido hacer un pequeño Homenaje a David Cronenberg pues cumple 82 años este próximos 15 de marzo. ¿Y cuál hemos pensado? Pues la más tierna de todas «The Fly» de 1986. Con un enorme Jeff Goldblum y Geena Davis. \nSinopsis: Un científico se utiliza a sí mismo como cobaya en la realización de un complejo experimento de teletransportación. La prueba es un éxito\, pero empieza a sufrir unos extraños cambios en su cuerpo. Al mismo tiempo\, descubre que dentro de la cápsula donde realizó el experimento con él se introdujo una mosca. \nHazte socio de Cines Lys gratuitamente y compra tu entrada por 5\,50€. \nReserva tu entrada
URL:https://cineslys.com/calendario/terrorificamente-lys-especial-aniversario-david-cronenberg-the-fly-vose/
LOCATION:Cines Lys Valencia
CATEGORIES:Terroríficamente Lys
ATTACH;FMTTYPE=image/jpeg:https://cineslys.com/wp-content/uploads/2025/02/thefly.jpg
END:VEVENT
BEGIN:VEVENT
DTSTART;VALUE=DATE:20250320
DTEND;VALUE=DATE:20250321
DTSTAMP:20260424T115459
CREATED:20250114T085840Z
LAST-MODIFIED:20250114T090343Z
UID:7310-1742428800-1742515199@cineslys.com
SUMMARY:Versión Digital: Romeo y Julieta
DESCRIPTION:Romeo y Julieta\nJueves\, 20 de marzo de 2025 20:15h\nDesde Royal Ballet & Opera\, Ballet directo \nLos Capuleto y los Montesco son enemigos jurados. Pero Romeo Montesco y Julieta Capuleto se enamoran a primera vista en el baile de los Capuleto\, en el que Romeo se ha colado. Los jóvenes se profesan devoción mutua en el balcón de Julieta y se casan en secreto. Las dificultades aumentan para la pareja cuando Romeo es expulsado de Verona tras vengar la muerte de su amigo Mercucio\, asesinado por Teobaldo\, el primo de Julieta. Mientras tanto\, los padres de Julieta quieren obligarla a casarse con otro pretendiente. Si quieren estar juntos\, Romeo y Julieta deberán sacrificarlo todo. \nJueves\, 20 de marzo de 2025 a las 20:15h \n Comprar entradas
URL:https://cineslys.com/calendario/version-digital-romeo-y-julieta/
LOCATION:Cines Lys Valencia
CATEGORIES:Conciertos en Cine,Eventos
ATTACH;FMTTYPE=image/jpeg:https://cineslys.com/wp-content/uploads/2025/01/DC6601_5889_OA-Hoffmann_foto-Keith-Saunders-1-6.jpg
END:VEVENT
BEGIN:VEVENT
DTSTART;VALUE=DATE:20250320
DTEND;VALUE=DATE:20250321
DTSTAMP:20260424T115459
CREATED:20250306T092617Z
LAST-MODIFIED:20250306T092617Z
UID:7951-1742428800-1742515199@cineslys.com
SUMMARY:Proyecto Viridiana: "Los aitas" con Borja Cobeaga
DESCRIPTION:Proyecto Viridiana: «Los aitas» con Borja Cobeaga\nJueves\,20 de marzo 19:30h\nVuelve Proyecto Viridiana con Los aitas\, con un coloquio online del director Borja Cobeaga. \nLos espectadores podrán mandar sus preguntas desde un QR que se proyectará antes de comenzar la película\, así como durante el coloquio. \nSinopsis: En la periferia obrera del Bilbao de finales de los 80\, un equipo infantil de gimnasia ri tmica tiene la oportunidad de participar en una campeonato en Berli n. Ante la imposibilidad de que las madres acompan en a sus hijas\, la tarea recaera en los padres\, que no parecen muy interesados en el viaje\, ni en ese deporte\, ni incluso en sus propias hijas. \n Reserva tu entrada
URL:https://cineslys.com/calendario/proyecto-viridiana-los-aitas-con-borja-cobeaga/
LOCATION:Cines Lys Valencia
CATEGORIES:Proyecto Viridiana
ATTACH;FMTTYPE=image/jpeg:https://cineslys.com/wp-content/uploads/2025/03/PROYECTO-VIRIDIANA-INSTAGRAM.jpg
END:VEVENT
BEGIN:VEVENT
DTSTART;TZID=UTC:20250320T193000
DTEND;TZID=UTC:20250320T193000
DTSTAMP:20260424T115459
CREATED:20250213T115254Z
LAST-MODIFIED:20250217T134859Z
UID:7743-1742499000-1742499000@cineslys.com
SUMMARY:Homenaje David Lynch: Terciopelo Azul
DESCRIPTION:Homenaje David Lynch: Terciopelo Azul\nJueves 20 de marzo a las 19:30h (VOSE)\nNo habrá corto en esta ocasión. \nNo podíamos cerrar un Homenaje a David Lynch sin poner «Terciopelo Azul» película de 1986 con la que consiguió una nominación a los Oscar como Mejor Director. Protagonizada por el grandísimo Kyle MacLachlan y la increíble actri Isabella Rossellini. \nSinopsis: Una mañana\, Jeffrey Beaumont (Kyle MacLachlan)\, después de visitar a su padre en el hospital\, encuentra entre unos arbustos una oreja humana. La guarda en una bolsa de papel y la lleva a la comisaría de policía\, donde le atiende el detective Williams (George Dickerson)\, que es vecino suyo. Comienza así una misteriosa intriga que desvelará extraños sucesos acontecidos en una pequeña localidad de Carolina del Norte. \n Reservar entradas
URL:https://cineslys.com/calendario/homenaje-david-lynch-terciopelo-azul/
LOCATION:Cines Lys Valencia
CATEGORIES:Homenaje David Lynch
ATTACH;FMTTYPE=image/jpeg:https://cineslys.com/wp-content/uploads/2025/01/davidlycn.jpg
END:VEVENT
BEGIN:VEVENT
DTSTART;VALUE=DATE:20250323
DTEND;VALUE=DATE:20250324
DTSTAMP:20260424T115459
CREATED:20250114T090149Z
LAST-MODIFIED:20250114T090149Z
UID:7317-1742688000-1742774399@cineslys.com
SUMMARY:Versión Digital: Romeo y Julieta (Reposición)
DESCRIPTION:Romeo y Julieta\nDomingo\, 23 de marzo de 2025 16:00h\nDesde Royal Ballet & Opera\, Reposición Ópera directo \nLos Capuleto y los Montesco son enemigos jurados. Pero Romeo Montesco y Julieta Capuleto se enamoran a primera vista en el baile de los Capuleto\, en el que Romeo se ha colado. Los jóvenes se profesan devoción mutua en el balcón de Julieta y se casan en secreto. Las dificultades aumentan para la pareja cuando Romeo es expulsado de Verona tras vengar la muerte de su amigo Mercucio\, asesinado por Teobaldo\, el primo de Julieta. Mientras tanto\, los padres de Julieta quieren obligarla a casarse con otro pretendiente. Si quieren estar juntos\, Romeo y Julieta deberán sacrificarlo todo. \nDomingo\, 23 de marzo de 2025 a las 16:00h \n Comprar entradas
URL:https://cineslys.com/calendario/version-digital-romeo-y-julieta-reposicion/
LOCATION:Cines Lys Valencia
CATEGORIES:Conciertos en Cine,Eventos
ATTACH;FMTTYPE=image/jpeg:https://cineslys.com/wp-content/uploads/2025/01/f.jpg
END:VEVENT
BEGIN:VEVENT
DTSTART;VALUE=DATE:20250324
DTEND;VALUE=DATE:20250325
DTSTAMP:20260424T115459
CREATED:20250314T110109Z
LAST-MODIFIED:20250322T191736Z
UID:8024-1742774400-1742860799@cineslys.com
SUMMARY:Cine Club Lys: 8 SIN Julio Medem
DESCRIPTION:Cine Club Lys: 8 SIN Julio Medem\nLunes 24 de marzo 16:30h – 18:00h – 19:30h\nPOR «MOTIVOS PERSONALES» JULIO MEDEM NO VISITARÁ CINE CLUB LYS EL PRÓXIMO 24 DE MARZO. QUEREMOS AGRADECER DESDE AQUÍ EL INTERÉS MOSTRADO Y LAS GANAS POR HACERLO PERO LAMENTAMOS QUE AL FINAL NO PUEDA.\nEste próximo Lunes 24 de marzo\, NO contaremos con la presencia del director Julio Medem\, que presentará y dará un posterior coloquio de su última película 8 \nSinopsis: Los 90 años de vida de Octavio y Adela ocurren en 8 capítulos\, que son 8 momentos\, 8 sinuosos planos en continuidad en 8 fechas decisivas de la historia de España\, entre 1931 y 2021. Octavio y Adela nacen en dos pueblos vecinos de una sierra cercana a Madrid el mismo amanecer en que se proclama la II República. Así\, desde el primer día\, y sin ellos saberlo\, sus destinos discurren conectados\, enlazados en forma de “8”\, dos bucles con un cruce en el centro\, mientras de fondo transcurre España; la que le toca vivir a cada uno. \n Reserva tu entrada
URL:https://cineslys.com/calendario/cine-club-lys-8/
LOCATION:Cines Lys Valencia
CATEGORIES:Cine club
ATTACH;FMTTYPE=image/png:https://cineslys.com/wp-content/uploads/2025/03/ocho.png
END:VEVENT
BEGIN:VEVENT
DTSTART;VALUE=DATE:20250325
DTEND;VALUE=DATE:20250326
DTSTAMP:20260424T115459
CREATED:20250312T082155Z
LAST-MODIFIED:20250312T104231Z
UID:7982-1742860800-1742947199@cineslys.com
SUMMARY:Cita a Ciegas: 25 de marzo
DESCRIPTION:Cita a Ciegas: 25 de marzo\nÚnete a nuestra Newsletter de Cita a Ciegas y participa en las porras semanales\nEl martes pasado\, tuvimos la oportunidad de ver Ghosthlight en preestreno\, dirigida por Alex Thompson y Kelly O’Sullivan y protagonizada por Keith Kupferer\, Dolly De Leon\, Katherine Mallen\, y otros. \nEstreno 28 de marzo \n¿Qué película será la del martes que viene? Hay que esperar a después de fallas! \nHazte socio de Cines Lys gratuitamente y acumula puntos comprando a 5€ \n Reserva tu entrada
URL:https://cineslys.com/calendario/cita-a-ciegas-25-de-marzo/
LOCATION:Cines Lys Valencia
CATEGORIES:Cita a ciegas
ATTACH;FMTTYPE=image/jpeg:https://cineslys.com/wp-content/uploads/2025/03/banner-25-de-marzo.jpg
END:VEVENT
BEGIN:VEVENT
DTSTART;TZID=UTC:20250327T203000
DTEND;TZID=UTC:20250327T203000
DTSTAMP:20260424T115459
CREATED:20250226T151333Z
LAST-MODIFIED:20250320T140205Z
UID:7890-1743107400-1743107400@cineslys.com
SUMMARY:Terroríficamente Lys: Especial Aniversario The Birds (VOSE)
DESCRIPTION:Terroríficamente Lys: The Birds de 1963 (VOSE)\nJueves\, 27 de marzo 20:30h\nÚnete a nuestra Newsletter de Terror donde podrás votar los cortos\, elegir películas\, y ganar entradas\nEste mes de marzo estamos de aniversario. Y es que cumplen 62 años del estreno en EEUU de una de las películas más icónicas de Alfred Hitchcocks: The Birds (Los pájaros). Cerramos un mes de Terror clásico como Dios manda. \nSinopsis: Melanie\, una joven rica mujer\, conoce en una pajarería al abogado Mitch Brenner. Tras el encuentro\, Melanie persigue al hombre hasta Bodega Bay\, lugar en el que es atacada por bandadas de pájaros enfurecidos. \nHazte socio de Cines Lys gratuitamente y compra tu entrada por 5\,50€. \nReserva tu entrada
URL:https://cineslys.com/calendario/terrorificamente-lys-especial-aniversario-the-birds-vose/
LOCATION:Cines Lys Valencia
CATEGORIES:Terroríficamente Lys
ATTACH;FMTTYPE=image/png:https://cineslys.com/wp-content/uploads/2025/02/thebirds-1.png
END:VEVENT
BEGIN:VEVENT
DTSTART;VALUE=DATE:20250331
DTEND;VALUE=DATE:20250401
DTSTAMP:20260424T115459
CREATED:20250303T112523Z
LAST-MODIFIED:20250320T110730Z
UID:7912-1743379200-1743465599@cineslys.com
SUMMARY:Cine Club Lys: Los aitas
DESCRIPTION:Cine Club Lys: Los aitas\nLunes 31 de marzo 16:30h – 18:00h – 19:30h\nMatrícula abierta Cine Club Lys 2024-2025. Precio socio 5\,50. No socio a 20€\nEste próximo Lunes 31 de marzo\, contaremos con la presencia del director Borja Cobeaga\, que presentará y dará un posterior coloquio de su última película Los aitas. \nSinopsis: En la periferia obrera del Bilbao de finales de los 80\, un equipo infantil de gimnasia rítmica tiene la oportunidad de participar en una campeonato en Berlín. Ante la imposibilidad de que las madres acompañen a sus hijas\, la tarea recaerá en los padres\, que no parecen muy interesados en el viaje\, ni en ese deporte\, ni incluso en sus propias hijas. \n Reserva tu entrada
URL:https://cineslys.com/calendario/cine-club-lys-los-aitas/
LOCATION:Cines Lys Valencia
CATEGORIES:Cine club,Visita de Directores
ATTACH;FMTTYPE=image/jpeg:https://cineslys.com/wp-content/uploads/2025/03/BORJA.jpg
END:VEVENT
END:VCALENDAR