									
BEGIN:VCALENDAR
VERSION:2.0
PRODID:-//Cines Lys Valencia - ECPv6.15.14//NONSGML v1.0//EN
CALSCALE:GREGORIAN
METHOD:PUBLISH
X-WR-CALNAME:Cines Lys Valencia
X-ORIGINAL-URL:https://cineslys.com/val
X-WR-CALDESC:Events for Cines Lys Valencia
REFRESH-INTERVAL;VALUE=DURATION:PT1H
X-Robots-Tag:noindex
X-PUBLISHED-TTL:PT1H
BEGIN:VTIMEZONE
TZID:UTC
BEGIN:STANDARD
TZOFFSETFROM:+0000
TZOFFSETTO:+0000
TZNAME:UTC
DTSTART:20250101T000000
END:STANDARD
END:VTIMEZONE
BEGIN:VEVENT
DTSTART;VALUE=DATE:20260420
DTEND;VALUE=DATE:20260421
DTSTAMP:20260422T104546
CREATED:20260320T110459Z
LAST-MODIFIED:20260408T164536Z
UID:11652-1776643200-1776729599@cineslys.com
SUMMARY:Cine Club Lys: Después de Kim con Ángeles González Sinde y Adriana Ozores
DESCRIPTION:Cine Club Lys: Después de Kim\nLunes 20 de abril 16:30h\, 18:00h y 19:30h\nMatrícula abierta al 50% Cine Club Lys 2025-2026. Entra ahora y únete a esta gran familia cinéfila.\nEl próximo lunes 20 de abril tendremos a la directora Ángeles González Sinde y a la actriz Adriana Ozores que darán un coloquio en los tres pases con su última película Después de Kim. Ambas repiten tras sus presentaciones con «El Comensal» (2022) e «Invisbles» (2020)\, respectivamente. \nSinopsis: uan (Dario Grandinetti) y Gloria (Adriana Ozores)\, divorciados y distanciados desde hace veinte años\, viajan desde Buenos Aires a España tras recibir la noticia de que su hija Kim\, con la que hace tiempo perdieron el contacto\, ha aparecido muerta. Allí descubren que ella ha dejado un hijo que está en paradero desconocido. Esta sorpresa les lleva a quedarse en España para encontrar a su nieto. Hacer ese camino juntos sin caer en los enfrentamientos del pasado será su desafío. \n Reserva tu entrada
URL:https://cineslys.com/val/calendario/cine-club-lys-despues-de-kim-con-angeles-gonzalez-sinde-y-adriana-ozores/
LOCATION:Cines Lys Valencia
CATEGORIES:Cine club,Visita de Directores
ATTACH;FMTTYPE=image/jpeg:https://cineslys.com/wp-content/uploads/2026/03/quim.jpg
END:VEVENT
BEGIN:VEVENT
DTSTART;TZID=UTC:20260420T193000
DTEND;TZID=UTC:20260420T193000
DTSTAMP:20260422T104546
CREATED:20260324T145914Z
LAST-MODIFIED:20260412T072656Z
UID:11695-1776713400-1776713400@cineslys.com
SUMMARY:Anime Saikuru: Akira
DESCRIPTION:Anime Saikuru: Akira (1988)\nLunes 20 de abril 19:30h y 20:35 (VOSE)\nEl próximo 14 de abril cumple años Katsuhiro Ōtomo y vamos a realizar un especial en su nombre. Tendremos este pase de Akira el lunes 20 de abril y «Memories» el próximo lunes 27 de abril. Un mes perfecto para disfrutar de estos dos grandes títulos del director japonés. \nSinopsis: Año 2019. Neo-Tokyo es una ciudad construida sobre las ruinas de la antigua capital japonesa destruida tras la Tercera Guerra Mundial. Japón es un país al borde del colapso que sufre continuas crisis políticas. En secreto\, un equipo de científicos ha reanudado por orden del ejército un experimento para encontrar a individuos que puedan controlar el arma definitiva: una fuerza denominada «la energía absoluta». Pero los habitantes de Neo-Tokyo tienen otras cosas de las que preocuparse. Uno de ellos es Kaneda\, un joven pandillero líder de una banda de motoristas. Durante una pelea\, su mejor amigo\, Tetsuo\, sufre un extraño accidente y termina ingresado en unas instalaciones militares. Allí los científicos descubrirán que es el poseedor de la energía absoluta. Pero Tetsuo\, que no se resigna a convertirse en un conejillo de indias\, muy pronto se convertirá en la amenaza más grande que el mundo ha conocido. \n Reserva tu entrada
URL:https://cineslys.com/val/calendario/anime-saikuru-akira/
LOCATION:Cines Lys Valencia
CATEGORIES:Anime Saikuru
ATTACH;FMTTYPE=image/jpeg:https://cineslys.com/wp-content/uploads/2026/03/akira-cineslys.jpg
END:VEVENT
END:VCALENDAR